BEGIN:VCALENDAR
VERSION:2.0
PRODID:-//Blog for Arizona - ECPv6.15.20//NONSGML v1.0//EN
CALSCALE:GREGORIAN
METHOD:PUBLISH
X-ORIGINAL-URL:https://blogforarizona.net
X-WR-CALDESC:Events for Blog for Arizona
REFRESH-INTERVAL;VALUE=DURATION:PT1H
X-Robots-Tag:noindex
X-PUBLISHED-TTL:PT1H
BEGIN:VTIMEZONE
TZID:America/Phoenix
BEGIN:STANDARD
TZOFFSETFROM:-0700
TZOFFSETTO:-0700
TZNAME:MST
DTSTART:20240101T000000
END:STANDARD
END:VTIMEZONE
BEGIN:VEVENT
DTSTART;TZID=America/Phoenix:20251102T140000
DTEND;TZID=America/Phoenix:20251102T153000
DTSTAMP:20260421T185001
CREATED:20251016T110135Z
LAST-MODIFIED:20251023T022747Z
UID:187297-1762092000-1762097400@blogforarizona.net
SUMMARY:Journalist Carl Bernstein on Watergate\, Politics & 2025 Election (postponed)
DESCRIPTION:by Carolyn Classen\, blogger \n\n\n\nEvent has been postponed\, so stay tuned for update per La Rosa owner David Slutes. \n\n\n\n\n\n\n\n“History as a Warning: Carl Bernstein on Watergate\, Politics\, and the 2025 Election \n\n\n\nPulitzer Prize-winning journalist Carl Bernstein reflects on the lessons of Watergate and the current state of American democracy in a timely conversation on journalism\, power\, and the stakes of the 2025 election. \n\n\n\nSunday\, November 2nd \n\n\n\nAll ages welcomed \n\n\n\nThis is a seated event \n\n\n\nDoors open at 1pmTalk starts at 2pm \n\n\n\n*A limited number of VIP tickets are available for a pre-show reception with Carl Bernstein. \n\n\n\nCarl BernsteinPulitzer Prize-winning Journalist | Bestselling Author | Political Analyst \n\n\n\nFew journalists have had the impact on history and their craft as Pulitzer Prize-winning investigative reporter Carl Bernstein. From uncovering the Watergate scandal with Bob Woodward to writing about national and international affairs for half a century\, Bernstein’s books\, reporting\, and commentary have revealed the hidden workings of government and politics around the world. \n\n\n\nBernstein’s important on-air reporting and commentary on Donald Trump for CNN has been widely recognized for continuing the kind of work he and Bob Woodward pioneered during the Nixon presidency. \n\n\n\nIn 1973\, Woodward and Bernstein were awarded the Pulitzer Prize for their Watergate coverage at the Washington Post\, leading to the resignation of President Richard Nixon and setting new standards for investigative journalism. The pair went on to write two classic best-sellers: All the President’s Men (also a movie starring Robert Redford and Dustin Hoffman); and The Final Days\, chronicling the end of the Nixon presidency. \n\n\n\nBernstein’s recently released book\, Chasing History: A Kid in the Newsroom\, became an instant New York Times bestseller\, receiving extraordinary attention and praise in reviews throughout the United States and Europe. In it\, Bernstein recounts his earliest days in journalism at the Washington Evening Star newspaper\, where he began his career during the Kennedy era as a 16-year- old copyboy. The roots of his Watergate reporting can be seen in this remarkable apprenticeship as a teenage reporter in the nation’s capital. \n\n\n\nBernstein’s other best-selling books demonstrate his unique range as a journalist: Loyalties: A Son’s Memoir\, about his family’s experiences in the McCarthy era; His Holiness: Pope John Paul II and The History of Our Time – a biography of Pope John Paul II – that revealed the Pope’s pivotal role in the fall of communism; and A Woman in Charge: The Life of Hillary Rodham Clinton\, acclaimed as the definitive biography on the subject. \n\n\n\nHis magazine articles have appeared in TIME\, USA Today\, Rolling Stone and New Republic. From 1999-2001\, Bernstein served as editor and executive vice president of Voter.com\, a pioneering website that Forbes named the best political site on the internet. He has worked as Washington bureau chief and correspondent for ABC News; and\, while at the Washington Post\, was also a part-time rock critic.” \n\n\n\nCarolyn’s note: General admission tickets start at $46\, with VIP reception at $240. Tucson Sentinel political reporter Jim Nintzel will do the interview. Buy tickets here:https://wl.eventim.us/event/carl-bernstein/653798?afflky=LaRosaTucson
URL:https://blogforarizona.net/event/journalist-carl-bernstein-on-watergate-politics-2025-election/
LOCATION:La Rosa\, 800 N. Country Club Rd.\, Tucson\, Arizona\, 85716
ATTACH;FMTTYPE=image/webp:https://blogforarizona.net/wp-content/uploads/2025/10/CarlBernstein.webp
END:VEVENT
BEGIN:VEVENT
DTSTART;TZID=America/Phoenix:20251102T160000
DTEND;TZID=America/Phoenix:20251102T173000
DTSTAMP:20260421T185001
CREATED:20251030T233632Z
LAST-MODIFIED:20251031T000737Z
UID:188173-1762099200-1762104600@blogforarizona.net
SUMMARY:Az Gov. Katie Hobbs’ Arizona First campaign rally in Phoenix
DESCRIPTION:by Carolyn Classen\, blogger \n\n\n\n \n\n\n\n\n\n\n\nSunday\, November 2 – PhoenixWHAT: Arizona First Rally in PhoenixWHO: Gov. Katie Hobbs\, House Democratic Leader Oscar De Los Santos\, Maricopa Supervisor Steve Gallardo\, and Tempe Mayor Corey WoodsWHEN: Sunday\, November 2 at 4:00pmWHERE: UA Local 4693109 N 24th StreetPhoenix\, AZ 85016 \n\n\n\nRSVP: https://www.mobilize.us/azdems/event/863539/ \n\n\n\nCarolyn’s note: Arizona Governor Katie Hobbs was elected in Nov. 2022 and is up for re-election in 2026. She served in the AZ House and Senate\, and was also AZ Sec. of State in 2019 to 2023.
URL:https://blogforarizona.net/event/az-gov-katie-hobbs-arizona-first-campaign-rally-in-phoenix/
LOCATION:UA Local 469 Plumbers\, Pipefitters\, & HVAC Techs\, 3109 N. 24th St.\, Phoenix\, AZ\, 85016
ATTACH;FMTTYPE=image/avif:https://blogforarizona.net/wp-content/uploads/2025/10/Phoenix-Mobilize-copy_20251024161410651897.avif
END:VEVENT
END:VCALENDAR