BEGIN:VCALENDAR
VERSION:2.0
PRODID:-//Blog for Arizona - ECPv6.15.20//NONSGML v1.0//EN
CALSCALE:GREGORIAN
METHOD:PUBLISH
X-ORIGINAL-URL:https://blogforarizona.net
X-WR-CALDESC:Events for Blog for Arizona
REFRESH-INTERVAL;VALUE=DURATION:PT1H
X-Robots-Tag:noindex
X-PUBLISHED-TTL:PT1H
BEGIN:VTIMEZONE
TZID:America/Phoenix
BEGIN:STANDARD
TZOFFSETFROM:-0700
TZOFFSETTO:-0700
TZNAME:MST
DTSTART:20240101T000000
END:STANDARD
END:VTIMEZONE
BEGIN:VEVENT
DTSTART;TZID=America/Phoenix:20251103T120000
DTEND;TZID=America/Phoenix:20251103T130000
DTSTAMP:20260423T063852
CREATED:20251003T120321Z
LAST-MODIFIED:20251030T112041Z
UID:186465-1762171200-1762174800@blogforarizona.net
SUMMARY:District 1 Pima County Supervisor Chair Rex Scott at DGT
DESCRIPTION:by Carolyn Classen\, blogger \n\n\n\n\n\n\n\n“Please join us for an update from Pima County by Chair and Pima Supervisor District 1\, Rex Scott on Nov. 3 at noon via Zoom. We will be discussing recent County business\, including a detailed discussion of the Project Blue data center proposal.\n\n\n\nYou Must Register in Advance for this Event:\n\n\n\nhttps://us02web.zoom.us/meeting/register/bfXNUax0Q_meiwvMR7OLdQ\n\n\n\nPima County Supervisor Rex Scott was first elected to represent District One in 2020 and was re-elected in 2024. He has been married to a fellow career educator since 1994 and they are the parents of adult twins. For most of those years\, the family has lived in District One and the twins are graduates of Mountain View High School in the Marana Unified School District. \n\n\n\nSupervisor Scott grew up in Athens\, Ohio and earned two bachelor’s degrees from Ohio University\, which is in Athens. In 1987\, at the age of 24\, he became the first Ohio University student elected to serve on Athens City Council. He was re-elected in 1989\, chaired the Finance Committee in his second term and joined with two of his colleagues to start the city’s curbside recycling program. \n\n\n\nIn 1991\, Supervisor Scott moved to Pima County to take a position teaching social studies at Flowing Wells Junior High School\, one of three schools in District One that he served during his career as a public-school educator. In 2000\, Supervisor Scott began his 19-year career as an administrator working in both middle and high schools. During that time\, he was an assistant principal at Ironwood Ridge High School and the principal at Tortolita Middle School\, both District One schools. \n\n\n\nIn his free time\, Supervisor Scott enjoys spending time with family and friends\, hiking in our beautiful deserts and mountains\, running on The Loop or in Sabino Canyon and reading. He is a longtime fan of the Cincinnati Reds and Miami Dolphins\, which helps him to practice patience! The book that has influenced his values and beliefs more than any other is Man’s Search For Meaning by Viktor Frankl.” \n\n\n\nCarolyn’s note: Supervisor Rex (D) is in his 2nd term on the Pima County Bd. of Supervisors\, and is a supporter of the controversial Project Blue data center building\, along with fellow Supervisors Matt Heinz (D) and Steve Christy (R). The Tucson City Council (all D) voted unanimously to reject an earlier proposal of Project Blue.
URL:https://blogforarizona.net/event/d-1-pima-county-supervisor-chair-rex-scott-at-dgt-salon/
LOCATION:Arizona
ATTACH;FMTTYPE=image/png:https://blogforarizona.net/wp-content/uploads/2025/10/Scott-DGT.png
END:VEVENT
BEGIN:VEVENT
DTSTART;TZID=America/Phoenix:20251103T180000
DTEND;TZID=America/Phoenix:20251103T190000
DTSTAMP:20260423T063852
CREATED:20251022T211133Z
LAST-MODIFIED:20251022T211455Z
UID:187682-1762192800-1762196400@blogforarizona.net
SUMMARY:Can We Talk Across Divides? virtual town hall
DESCRIPTION:by Carolyn Classen\, blogger \n\n\n\n\n\n\n\nPBS Books invites you to a Virtual Town Hall Author Talk with acclaimed journalists Nolan Finley and Stephen Henderson to explore their new release\, The Civility Book. Once adversarial editorial voices on opposite sides of the political spectrum\, these authors have now joined forces to share an inspiring message: civil conversation is not only possible\, it’s essential. \n\n\n\nIn this live\, interactive event hosted by Heather-Marie Montilla\, Nolan and Stephen will talk about the personal journey that led to this collaboration\, the real-world challenges they’ve faced\, and the everyday ways their Four Pillars of Civility can help families\, friends\, and communities stay connected despite differences. \n\n\n\nViewers will have the chance to submit their own questions during the conversation\, making this more than just an author talk—it’s a town hall for anyone who’s ever wondered how we can disagree without tearing each other down. \n\n\n\n\n\n\n\nhttps://bookshop.org/widgets/book/book_featured/113350/9780814352182?full_info=true \n\n\n\nHost\n\n\n\n\n\n\n\nHeather-Marie Montilla\n\n\n\nHeather-Marie Montilla\, a dynamic integrative leader\, is an educator and nonprofit manager. She has worked in the nonprofit sector and libraries for over two decades\, making a positive impact in arts\, cultural\, educational\, and community-building arenas. \n\n\n\nHaving joined the PBS Books team as their Library Bureau Chief in Fall 2018\, Montilla is now the National Director of PBS Books and has interviewed more than 150 writers. In addition\, she is a faculty member at Michigan State University and Eastern Michigan University for their Arts and Cultural/Entertainment Management Programs. Having been an Executive Director for 8 years\, Heather has a wide range of experience in management\, finance\, strategic planning\, marketing\, and fundraising. Heather holds a MPA From Columbia University\, a MLIS from Wayne State University\, and a bachelor’s from Duke University. She lives in Chicagoland\, and is married with four children\, a dog\, and a bird. \n\n\n\nGuests\n\n\n\n\n\n\n\nStephen Henderson\n\n\n\nJournalist\n\n\n\nStephen Henderson is an American journalist and winner of the 2014 Pulitzer Prize for Commentary and the 2014 National Association of Black Journalists Journalist of the Year Award—both received while writing for the Detroit Free Press. A native of Detroit\, Henderson is a graduate of the University of Detroit Jesuit High School and the University of Michigan. Since 2015\, he has been the host of Detroit Today on WDET\, and in 2020\, he founded BridgeDetroit\, where he serves as executive editor. Henderson is cohost of One Detroit and host of American Black Journal on Detroit Public Television. \n\n\n\n\n\n\n\nNolan Finley\n\n\n\nAuthor & Journalist\n\n\n\nNolan Finley has held many positions at the Detroit News since the start of his career there as a copy boy\, including city editor\, business editor\, politics editor\, and deputy managing editor. In 2000\, he was named editorial page editor\, where he directs the expression of the newspaper’s editorial position on various national and local issues and writes a column in the Sunday newspaper. He graduated from Schoolcraft College and Wayne State University\, and in 2012\, he was inducted into the Michigan Journalism Hall of Fame. Finley was also a cohost of One Detroit on Detroit Public Television.” \n\n\n\n\nCan We Talk Across Divides? Nolan Finley & Stephen Henderson on The Civility Book | Author Talk & Town Hall
URL:https://blogforarizona.net/event/can-we-talk-across-divides/
LOCATION:Arizona
ATTACH;FMTTYPE=image/png:https://blogforarizona.net/wp-content/uploads/2025/10/PBS-Books-Civility-Virtual-Town-Hall-800x450-1.png
END:VEVENT
END:VCALENDAR