BEGIN:VCALENDAR
VERSION:2.0
PRODID:-//Blog for Arizona - ECPv6.15.20//NONSGML v1.0//EN
CALSCALE:GREGORIAN
METHOD:PUBLISH
X-WR-CALNAME:Blog for Arizona
X-ORIGINAL-URL:https://blogforarizona.net
X-WR-CALDESC:Events for Blog for Arizona
REFRESH-INTERVAL;VALUE=DURATION:PT1H
X-Robots-Tag:noindex
X-PUBLISHED-TTL:PT1H
BEGIN:VTIMEZONE
TZID:America/Phoenix
BEGIN:STANDARD
TZOFFSETFROM:-0700
TZOFFSETTO:-0700
TZNAME:MST
DTSTART:20240101T000000
END:STANDARD
END:VTIMEZONE
BEGIN:VEVENT
DTSTART;TZID=America/Phoenix:20251104T060000
DTEND;TZID=America/Phoenix:20251104T190000
DTSTAMP:20260419T233938
CREATED:20250411T152934Z
LAST-MODIFIED:20250919T123048Z
UID:176911-1762236000-1762282800@blogforarizona.net
SUMMARY:General Election - City of Tucson
DESCRIPTION:by Carolyn Classen\, blogger \n\n\n\nThree City of Tucson Council races will be decided today (hopefully depending on counting of provsional ballots) for Ward 3\, 5 and 6. \n\n\n\nWard 3 is represented by 1 term Democrat Kevin Dahl\, who faced a primary challenger (in the August 5 Dem primary) and now a Republican challenger. \n\n\n\nWard 5 was represented by Democrat Richard Fimbres\, who retired on May 1\, 2025 after being elected to 4 terms. A replacement Council member Rocque Perez II was appointed by the current Tucson City Council on May 6\, 2025.  3 Dem candidates faced off in the Primary. No L or R is running in this ward race. \n\n\n\nWard 6 is represented by appointed Democrat/former Ward 3 Councilwoman Karin Uhlich\, who is serving out the remainder of Steve Kozachik’s term. He left the Council to work for Pima County in March\, 2024. 3 Dems were in a primary race\, and 1 Republican are seeking this seat. \n\n\n\nCity of Tucson Elections primary candidate listing for 2025: https://www.tucsonaz.gov/Departments/Clerks/Elections/Candidates. General election candidates were determined by the August 5\, 2025 primaries (D and R). \n\n\n\nCouncil candidates running in the General Election: https://www.tucsonaz.gov/Departments/Clerks/Elections/Candidates \n\n\n\nWard 3- incumbent Kevin Dahl (D) vs. Republican Janet Wittenbraker.  \n\n\n\nWard 5- Selina Barajas (D)\, unopposed  \n\n\n\nWard 6- Melinda Schubert (D) vs. Republican Jay Tolkoff \n\n\n\nProp 417\, Plan Tucson is also on the ballot: https://www.tucsonaz.gov/Departments/Planning-Development-Services/PDSD-News/Request-a-Presentation-on-Plan-Tucson-Proposition-417-for-Your-Organization. “This 10-year update builds upon more than a decade of progress since the 2013 planning efforts and reflects the community’s evolved vision for a more vibrant\, sustainable\, and inclusive Tucson.” \n\n\n\n\n\n\n\nAlso on the ballot is the TUSD bond override\, called Prop. 414. Listen to TUSD Governing Bd. Clerk Dr. Ravi Shah explain Prop. 414 at www.thedgt.org. Info on Prop 414:http://pima-county-schools.s3.amazonaws.com/downloads/49/rb251309_tucson_usd_pub_11-25_print.pdf \n\n\n\nVote wisely on or before November 4\, 2025. Early ballots go out on October 8\, 2025.
URL:https://blogforarizona.net/event/general-election-city-of-tucson/
LOCATION:AZ
ATTACH;FMTTYPE=image/png:https://blogforarizona.net/wp-content/uploads/2023/09/logo-city-tucson.png
END:VEVENT
BEGIN:VEVENT
DTSTART;TZID=America/Phoenix:20251104T190000
DTEND;TZID=America/Phoenix:20251104T213000
DTSTAMP:20260419T233938
CREATED:20250926T115746Z
LAST-MODIFIED:20251101T043522Z
UID:186117-1762282800-1762291800@blogforarizona.net
SUMMARY:PCDP Election Night watch party
DESCRIPTION:by Carolyn Classen\, blogger \n\n\n\n\n\n\n\nTime\n\n\n\nTuesday\, November 4 \n\n\n\n7 – 9:30pm MST \n\n\n\nLocation\n\n\n\nHotel Congress \n\n\n\n311 E Congress St #1811Tucson\, AZ 85701Map \n\n\n\n\n\n\n\nAbout this event\n\n\n\n“Please join us at the Historic Hotel Congress to watch election results come in with our amazing city council candidates! \n\n\n\nAdmission for the primary watch party is free\, and you can RSVP for the VIP reception here (6 p.m.): https://secure.actblue.com/donate/ccelectionnight25 \n\n\n\nThere will be a security presence. You must have a clear bag and RSVP is required\, with no exceptions \n\n\n\nWith Guest Speakers:  \n\n\n\nAZ Dems Chair Charlene Fernandez \n\n\n\nPima County Attorney Laura Conover \n\n\n\nTucson CouncilMember Lane Santa Cruz (Ward 1) \n\n\n\nTucson CouncilMember Paul Cunningham (Ward 2) \n\n\n\nCongresswoman-Elect Adelita Grijalva (CD 7)” \n\n\n\nCarolyn’s note: Democrats running in this Tucson City Council general election: incumbent Kevin Dahl in Ward 3\, Selina Barajas in Ward 5\, Miranda Schubert in Ward 6. Kevin and Miranda face Republican opponents\, Selina is running unopposed.
URL:https://blogforarizona.net/event/pcdp-election-night-watch-party/
LOCATION:Hotel Congress\, 311 E. Congress St.\, Tucson\, Arizona\, 85701
ATTACH;FMTTYPE=image/webp:https://blogforarizona.net/wp-content/uploads/2025/09/watch-party.webp
ORGANIZER;CN="Pima County Democratic Party":MAILTO:info@pimadems.org
END:VEVENT
END:VCALENDAR