BEGIN:VCALENDAR
VERSION:2.0
PRODID:-//Blog for Arizona - ECPv6.15.20//NONSGML v1.0//EN
CALSCALE:GREGORIAN
METHOD:PUBLISH
X-ORIGINAL-URL:https://blogforarizona.net
X-WR-CALDESC:Events for Blog for Arizona
REFRESH-INTERVAL;VALUE=DURATION:PT1H
X-Robots-Tag:noindex
X-PUBLISHED-TTL:PT1H
BEGIN:VTIMEZONE
TZID:America/Phoenix
BEGIN:STANDARD
TZOFFSETFROM:-0700
TZOFFSETTO:-0700
TZNAME:MST
DTSTART:20240101T000000
END:STANDARD
END:VTIMEZONE
BEGIN:VEVENT
DTSTART;TZID=America/Phoenix:20251111T110000
DTEND;TZID=America/Phoenix:20251111T123000
DTSTAMP:20260419T130024
CREATED:20251030T152443Z
LAST-MODIFIED:20251030T152848Z
UID:188159-1762858800-1762864200@blogforarizona.net
SUMMARY:Tucson Veteran's Day parade
DESCRIPTION:by Carolyn Classen\, blogger \n\n\n\n\n\n\n\n\n\n\n\n“The purpose of this organization is to organize\, host and participate in the community event of the annual Tucson Veteran’s Day Parade;to raise funds to cover expenditures of hosting said event. \n\n\n\nInvolving kids in celebrating Veterans Day is a wonderful wayto teach them about gratitude\, empathy\, and the importance ofhonoring those who have served our country. \n\n\n\nVeterans Day is a reminder not only of the sacrifices made by those who served but also of the rich insights they provide into effective leadership.Tucson Veteran’s Day Parade Foundation (TVDPF)is organized for social and charitable purposes.​ TVDPF formed to provide supporters with a 100% tax deductible donation.” \n\n\n\nhttps://tucsonvdpf.org
URL:https://blogforarizona.net/event/tucson-veterans-day-parade/
LOCATION:downtown Tucson
ATTACH;FMTTYPE=image/jpeg:https://blogforarizona.net/wp-content/uploads/2025/10/VeteransDayparadeTucson-scaled.jpg
END:VEVENT
BEGIN:VEVENT
DTSTART;TZID=America/Phoenix:20251111T173000
DTEND;TZID=America/Phoenix:20251111T193000
DTSTAMP:20260419T130024
CREATED:20251022T174328Z
LAST-MODIFIED:20251024T172520Z
UID:187650-1762882200-1762889400@blogforarizona.net
SUMMARY:Support JoAnna Mendoza for Congress on Veterans Day
DESCRIPTION:RSVP:  scan the QR code below or click on this link https://secure.numero.ai/contribute/Veterans-Day-Fundraiser-with-Jo-Mendoza \n\n\n\nWe need a veteran who is a Democrat in Congress in CD6. Invite a Veteran\, pay their ticket as a small tribute for putting their lives on the line for us.  It will be an uplifting evening for all of us in the Catalina Foothills.
URL:https://blogforarizona.net/event/support-joann-mendoza-for-congress-on-veterans-day/
LOCATION:Arizona
ATTACH;FMTTYPE=image/jpeg:https://blogforarizona.net/wp-content/uploads/2025/10/Veterans-Day-Bill-Swan-Invite-1.jpg
END:VEVENT
BEGIN:VEVENT
DTSTART;TZID=America/Phoenix:20251111T180000
DTEND;TZID=America/Phoenix:20251111T193000
DTSTAMP:20260419T130024
CREATED:20251101T040803Z
LAST-MODIFIED:20251101T040807Z
UID:188262-1762884000-1762889400@blogforarizona.net
SUMMARY:Retrospectives with David Eisenberg at Sustainable Tucson meeting
DESCRIPTION:by Carolyn Classen\, blogger \n\n\n\nRetrospectively Looking Forward:Building on 30 years of work in sustainability\, codes\, and the built environment\n\n\n\nTuesday\, November 11\, 6:00-7:15 pmZoom: https://us02web.zoom.us/j/88416165226?pwd=qc6U79XxwykraKecbh3Q9iBipTwlAm.1\n\n\n\n“Join us for our November Sustainability Spotlight: David Eisenberg\, a native Tucsonan\, will share stories and insights from over three decades of building\, including his involvement in strawbale and earthen building\, the US Green Building Council\, and building codes and standards. The successes and challenges of the work provide useful lessons for working on meaningful things in the face of changing climates — not just the weather\, but politics\, economics\, and resilience. Following David’s presentation\, there will be time for questions and discussion.\n\n\n\nDavid co-founded the Development Center for Appropriate Technology\, co-authored the Straw Bale House book\, and has been a leading figure in getting innovative\, sustainable materials incorporated into building codes used across the country. He serves on the Sustainable Tucson board of directors\, and is a founding member of the Investing in People & Infrastructure project. A photographer and poet as well\, he is much sought-after as a speaker at professional conferences and visionary gatherings.”
URL:https://blogforarizona.net/event/retrospectives-with-david-eisenberg-at-sustainable-tucson-meeting/
LOCATION:Arizona
ATTACH;FMTTYPE=image/jpeg:https://blogforarizona.net/wp-content/uploads/2025/10/DavidEisenberg.jpeg
END:VEVENT
END:VCALENDAR