BEGIN:VCALENDAR
VERSION:2.0
PRODID:-//Blog for Arizona - ECPv6.15.20//NONSGML v1.0//EN
CALSCALE:GREGORIAN
METHOD:PUBLISH
X-WR-CALNAME:Blog for Arizona
X-ORIGINAL-URL:https://blogforarizona.net
X-WR-CALDESC:Events for Blog for Arizona
REFRESH-INTERVAL;VALUE=DURATION:PT1H
X-Robots-Tag:noindex
X-PUBLISHED-TTL:PT1H
BEGIN:VTIMEZONE
TZID:America/Phoenix
BEGIN:STANDARD
TZOFFSETFROM:-0700
TZOFFSETTO:-0700
TZNAME:MST
DTSTART:20240101T000000
END:STANDARD
END:VTIMEZONE
BEGIN:VEVENT
DTSTART;TZID=America/Phoenix:20251203T180000
DTEND;TZID=America/Phoenix:20251203T200000
DTSTAMP:20260420T023527
CREATED:20251110T233137Z
LAST-MODIFIED:20251120T150752Z
UID:188751-1764784800-1764792000@blogforarizona.net
SUMMARY:Arizona List holiday party in Phoenix
DESCRIPTION:by Carolyn Classen\, blogger \n\n\n\n\n\n\n\n“Tis the season to celebrate women leading Arizona!  Join us for the Arizona List Holiday Party as we celebrate our collective strength and look ahead to 2026 when we’ll re-elect Governor Katie Hobbs and Attorney General Kris Mayes and win up and down the ballot together. \n\n\n\nEnjoy food\, drinks\, and an exciting raffle!  \n\n\n\nGuest speakers to be announced soon \n\n\n\nPhoenix: Wednesday\, December 3rd | 6:00-8:00 PM \n\n\n\nTucson: Thursday\, December 4th | 6:00-8:00 PM \n\n\n\nRSVP: arizonalist.org/holiday25 \n\n\n\nTis the season to celebrate women leading Arizona!  Join us for the Arizona List Holiday Party as we celebrate our collective strength and look ahead to 2026 when we’ll re-elect Governor Katie Hobbs and Attorney General Kris Mayes and win up and down the ballot together.”
URL:https://blogforarizona.net/event/arizona-list-holiday-party-in-phoenix/
LOCATION:AZ
ATTACH;FMTTYPE=image/jpeg:https://blogforarizona.net/wp-content/uploads/2025/11/CA76BAED-3CA6-4BE4-8B83-969A8076E2D2.jpeg
END:VEVENT
BEGIN:VEVENT
DTSTART;TZID=America/Phoenix:20251203T193000
DTEND;TZID=America/Phoenix:20251207T160000
DTSTAMP:20260420T023527
CREATED:20251010T143242Z
LAST-MODIFIED:20251121T002045Z
UID:186911-1764790200-1765123200@blogforarizona.net
SUMMARY:“What the Constitution Means to Me" play
DESCRIPTION:by Carolyn Classen\, blogger \n\n\n\n“This award-winning\, boundary-breaking play breathes new life into our Constitution and imagines how it will shape the next generation of Americans. Fifteen-year-old Heidi earned her college tuition by winning Constitutional debate competitions across the United States. In this hilarious\, hopeful and achingly human new play\, she resurrects her teenage self in order to trace the profound relationship between four generations of women and the founding document that shaped their lives. \n\n\n\nBetsy Kruse Craig\, Invisible Theatre’s Managing Artistic Director\, is featured as Heidi.  The cast also includes David Alexander Johnston and Ash Martin.” \n\n\n\nDECEMBER 3RD: WEDNESDAY AT 7:30PM \n\n\n\nDECEMBER 4TH: THURSDAY AT 7:30PM \n\n\n\nDECEMBER 5TH; FRIDAY AT 7: 30PM \n\n\n\nDECEMBER 6TH: SATURDAY AT 2:00PM \n\n\n\nDECEMBER 7TH: SUNDAY AT 2:00PM \n\n\n\n\nWHAT THE CONSTITUTION MEANS TO ME by Heidi Schrek
URL:https://blogforarizona.net/event/what-the-constitution-means-to-me-play/
LOCATION:Invisible Theater\, 1400 N. 1st. Ave.\, Tucson\, Arizona\, 85719
ATTACH;FMTTYPE=image/jpeg:https://blogforarizona.net/wp-content/uploads/2025/10/constitution.jpeg
END:VEVENT
END:VCALENDAR