BEGIN:VCALENDAR
VERSION:2.0
PRODID:-//Blog for Arizona - ECPv6.15.20//NONSGML v1.0//EN
CALSCALE:GREGORIAN
METHOD:PUBLISH
X-ORIGINAL-URL:https://blogforarizona.net
X-WR-CALDESC:Events for Blog for Arizona
REFRESH-INTERVAL;VALUE=DURATION:PT1H
X-Robots-Tag:noindex
X-PUBLISHED-TTL:PT1H
BEGIN:VTIMEZONE
TZID:America/Phoenix
BEGIN:STANDARD
TZOFFSETFROM:-0700
TZOFFSETTO:-0700
TZNAME:MST
DTSTART:20250101T000000
END:STANDARD
END:VTIMEZONE
BEGIN:VEVENT
DTSTART;TZID=America/Phoenix:20260107T180000
DTEND;TZID=America/Phoenix:20260107T200000
DTSTAMP:20260419T142745
CREATED:20251213T000043Z
LAST-MODIFIED:20251227T162344Z
UID:190174-1767808800-1767816000@blogforarizona.net
SUMMARY:Rethinking Transportation
DESCRIPTION:by Carolyn Classen\, blogger \n\n\n\n“Join us on Wednesday\, January 7th in the Ward 6 community room from 6 – 8 pm to discuss RTA Next.  \n\n\n\nWe’ll take a closer look at key concerns surrounding RTA Next—also known as Propositions 418 and 419—which will go before voters in March 2026. Maass\, who served on the RTA Citizens’ Advisory Committee\, and Albert Elías\, city planner\, former public administrator\, and chair of LSA’s Advocacy Committee\, will share insights on what’s at stake and what a more forward-thinking approach could look like.” \n\n\n\nRSVP Here\n\n\n\nCarolyn’s note: New Ward 6 Councilmember Miranda Schubert is a commuter bicyclist\, as is my husband. I often take the Sun Tran bus and Sun Link streetcar\, and drive our car. Bicycling is difficult for me recently due to health issues. Attend this talk to learn about other ways to rethink transportation options in Tucson.
URL:https://blogforarizona.net/event/rethinking-transportation/
LOCATION:Ward 6 Council office\, 3202 E. 1st St.\, Tucson\, Arizona\, 85716
ATTACH;FMTTYPE=image/jpeg:https://blogforarizona.net/wp-content/uploads/2025/12/RethinkingTransportation.jpg
END:VEVENT
END:VCALENDAR