BEGIN:VCALENDAR
VERSION:2.0
PRODID:-//Blog for Arizona - ECPv6.15.20//NONSGML v1.0//EN
CALSCALE:GREGORIAN
METHOD:PUBLISH
X-ORIGINAL-URL:https://blogforarizona.net
X-WR-CALDESC:Events for Blog for Arizona
REFRESH-INTERVAL;VALUE=DURATION:PT1H
X-Robots-Tag:noindex
X-PUBLISHED-TTL:PT1H
BEGIN:VTIMEZONE
TZID:America/Phoenix
BEGIN:STANDARD
TZOFFSETFROM:-0700
TZOFFSETTO:-0700
TZNAME:MST
DTSTART:20250101T000000
END:STANDARD
END:VTIMEZONE
BEGIN:VEVENT
DTSTART;TZID=America/Phoenix:20260112T180000
DTEND;TZID=America/Phoenix:20260124T160000
DTSTAMP:20260420T164436
CREATED:20260104T024339Z
LAST-MODIFIED:20260104T024343Z
UID:191076-1768240800-1769270400@blogforarizona.net
SUMMARY:Phoenix MLK 2026 celebrations
DESCRIPTION:by Carolyn Classen\, blogger \n\n\n\n\n\n\n\nAll info about Phoenix MLK events and awards at: https://azmlk.org/. Don’t miss the festival on the MLK Holiday\, January 19 at Margaret T. Hance Park\, 67 W. Culver St. Phoenix 85003.
URL:https://blogforarizona.net/event/phoenix-mlk-2026-celebrations/
LOCATION:AZ
ATTACH;FMTTYPE=image/jpeg:https://blogforarizona.net/wp-content/uploads/2026/01/2026MLK-events-flyer-scaled-1.jpg
END:VEVENT
BEGIN:VEVENT
DTSTART;TZID=America/Phoenix:20260116T120000
DTEND;TZID=America/Phoenix:20260116T130000
DTSTAMP:20260420T164436
CREATED:20251227T152905Z
LAST-MODIFIED:20251227T153242Z
UID:190829-1768564800-1768568400@blogforarizona.net
SUMMARY:Secular AZ's Legislative Update
DESCRIPTION:by Carolyn Classen\, blogger \n\n\n\n\n\n\n\n“As the  57th  Arizona Legislature gets underway\, join us on January 16 at noon (AZ Time) for an update from Secular AZ’s (E.D.) Jeanne Casteen and friends.\n\n\n\nClick here to RSVP for this virtual event. Add to calendar \n\n\n\nDetails\n\n\n\n\nDate: January 16\, 2026\n\n\n\nTime:12:00 pm – 1:00 pm\n\n\n\nEvent Category: Education\n\n\n\nEvent Tags:activism\, Arizona\, christian nationalism\, establishment clause\, legislative\, separation of church and state\n\n\n\nWebsite: https://us02web.zoom.us/webinar/register/WN_pdswQ0PVRj2gvtF4065NfQ\n\n\n\n\nJeanne Casteen\n\n\n\nExecutive Director \n\n\n\nSecular Arizona’s Executive Director Jeanne Casteen\n\n\n\nJEANNE CASTEEN has a bachelor’s degree in human communication and history from the Hugh Downs School of Human Communication at ASU and a master’s in education\, also from ASU. Jeanne has over 11 years of experience teaching in Maricopa County’s public schools. In 2011\, Jeanne completed the Emerge Arizona program and in 2012 became a school board member of the Creighton School District. She served as Board President from 2016 through 2020. In 2020\, Ms. Casteen ran for Maricopa County School Superintendent\, and came within 12\,000 votes of winning. She has been awarded the Arizona School Public Relations Association Award for Excellence in Advocacy and Political Contributions to Education as well as the Arizona School Board Association’s All-Arizona School Board Member Award.”
URL:https://blogforarizona.net/event/secular-azs-legislative-update/
LOCATION:AZ
ATTACH;FMTTYPE=image/png:https://blogforarizona.net/wp-content/uploads/2025/12/not-a-church-2.png
END:VEVENT
END:VCALENDAR