BEGIN:VCALENDAR
VERSION:2.0
PRODID:-//Blog for Arizona - ECPv6.15.20//NONSGML v1.0//EN
CALSCALE:GREGORIAN
METHOD:PUBLISH
X-WR-CALNAME:Blog for Arizona
X-ORIGINAL-URL:https://blogforarizona.net
X-WR-CALDESC:Events for Blog for Arizona
REFRESH-INTERVAL;VALUE=DURATION:PT1H
X-Robots-Tag:noindex
X-PUBLISHED-TTL:PT1H
BEGIN:VTIMEZONE
TZID:America/Phoenix
BEGIN:STANDARD
TZOFFSETFROM:-0700
TZOFFSETTO:-0700
TZNAME:MST
DTSTART:20250101T000000
END:STANDARD
END:VTIMEZONE
BEGIN:VEVENT
DTSTART;TZID=America/Phoenix:20260112T180000
DTEND;TZID=America/Phoenix:20260124T160000
DTSTAMP:20260421T170723
CREATED:20260104T024339Z
LAST-MODIFIED:20260104T024343Z
UID:191076-1768240800-1769270400@blogforarizona.net
SUMMARY:Phoenix MLK 2026 celebrations
DESCRIPTION:by Carolyn Classen\, blogger \n\n\n\n\n\n\n\nAll info about Phoenix MLK events and awards at: https://azmlk.org/. Don’t miss the festival on the MLK Holiday\, January 19 at Margaret T. Hance Park\, 67 W. Culver St. Phoenix 85003.
URL:https://blogforarizona.net/event/phoenix-mlk-2026-celebrations/
ATTACH;FMTTYPE=image/jpeg:https://blogforarizona.net/wp-content/uploads/2026/01/2026MLK-events-flyer-scaled-1.jpg
END:VEVENT
BEGIN:VEVENT
DTSTART;TZID=America/Phoenix:20260121T100000
DTEND;TZID=America/Phoenix:20260121T113000
DTSTAMP:20260421T170723
CREATED:20251127T122335Z
LAST-MODIFIED:20251127T122407Z
UID:189448-1768989600-1768995000@blogforarizona.net
SUMMARY:AZ Governor's State Report
DESCRIPTION:by Carolyn Classen\, blogger \n\n\n\n\n\n\n\nEvent by Southern Arizona Hispanic Chamber of Commerce \n\n\n\nTucson Convention Center \n\n\n\nPublic  · Anyone on or off Facebook \n\n\n\n“Join us for the Governor’s State Report featuring Arizona Governor Katie Hobbs as she delivers her annual State of the State Address. \n\n\n\nIn this pivotal presentation\, Governor Hobbs will provide an insightful overview of Arizona’s current economic landscape\, policy initiatives\, and future goals. She will discuss the challenges and opportunities facing our state and share her vision for fostering growth\, innovation\, and community resilience. \n\n\n\nThis is an invaluable opportunity to hear directly from the Governor about her plans to strengthen Arizona and to engage with key stakeholders in shaping our shared future.” \n\n\n\nTickets: https://www.soazhcc.org/governors-state-report?fbclid=IwY2xjawOVIexleHRuA2FlbQIxMABicmlkETFLeTE5NjVNV3VpQzlQZUVGc3J0YwZhcHBfaWQQMjIyMDM5MTc4ODIwMDg5MgABHssYcvZVQ4TNkikHo5Yby5fxgtw0BZDYrtiG7CjOtZsHQ99r4fWn7q0mX8uZ_aem_JbfUljr4FnyRMcYzfuyfuQ
URL:https://blogforarizona.net/event/az-governors-state-report/
LOCATION:Tucson Convention Center\, 260 S. Church Avenue\, Tucson\, Arizona\, 85701\, United States
ATTACH;FMTTYPE=image/jpeg:https://blogforarizona.net/wp-content/uploads/2025/11/StateoftheState2026.jpg
END:VEVENT
BEGIN:VEVENT
DTSTART;TZID=America/Phoenix:20260121T160000
DTEND;TZID=America/Phoenix:20260121T180000
DTSTAMP:20260421T170723
CREATED:20251221T163953Z
LAST-MODIFIED:20260121T025612Z
UID:190653-1769011200-1769018400@blogforarizona.net
SUMMARY:Happy Hour with DGT
DESCRIPTION:by Carolyn Classen\, blogger \n\n\n\nDemocrats of Greater Tucson Happy HourDATE: January 21st\, 2026TIME: 4:00 PM – 6:00 PMLOCATION: Brother John’s Beer Bourbon & BBQ\, 1801 N Stone Ave\, Tucson\, AZ 85705\n\n\n\n“Want to get involved in your local political scene? Spend time with a wonderful group of fellow Democrats? Enjoy some good food? \n\n\n\nJoin us at Brother John’s Beer\, Bourbon & BBQ’s Bourbon Lounge for drinks and great conversation\, and make some new friends! \n\n\n\nCome meet our Mystery Guests!We’ll have a mystery guest at every happy hour\, and you might get a chance to meet local\, city\, state\, and even national volunteers\, activists\, and organizers. \n\n\n\nCome have a conversation you won’t have anywhere else\, and feel free to bring a plus one! We can’t wait to see you there!” \n\n\n\nUPDATE from former DGT Pres. Larry Bodine: \n\n\n\n“See and hear Tre (Rhodes) at TheDGT.org Happy Hour on Wednesday\, January 21\, from 4 to 6 pm at Brother John’s restaurant\, 1801 N Stone Ave\, Tucson\, AZ 85705. We will make a formal presentation of a $2\,500 donation to his campaign. \n\n\n\n﻿A former member of the DGT Board\, TreDavon will bring a fresh perspective to TUSD and ensure that\, like him\, all students have the opportunity to succeed in our district. \n\n\n\nToday\, he studies Political Science and Economics at the University of Arizona and is active in the UA College Democrats. MEET TreDavon. \n\n\n\nTre Rhodes\, candidate for TUSD Governing Board\n\n\n\nTRE IS RUNNING TO: \n\n\n\n\nAddress the potential closure of 14 TUSD public schools due to declining enrollment.\n\n\n\nBring his lived experience as a graduate of Sabino High School to families in TUSD.\n\n\n\nServe as a voice for the governed – TUSD’s 35\,000 students.\n\n\n\nAdd staff and support for Career and Technical Education programs.\n\n\n\nFind new ways to fund TUSD.\n\n\n\nRein in the fraud-ridden ESA school voucher program\, which is stealing money directly from public schools.\n\n\n\n\nTo find out more\, read Put a Student — Tre’Davon Rhodes — on the TUSD School Board. Don’t miss your chance to meet Tre on Wednesday at 4!“
URL:https://blogforarizona.net/event/happy-hour-with-dgt-3/
LOCATION:Brother John’s\, 1801 N Stone Ave.\, Tucson\, AZ\, 85705\, United States
ATTACH;FMTTYPE=image/png:https://blogforarizona.net/wp-content/uploads/2024/05/DGT-Happy-Hour-Flag.png
END:VEVENT
END:VCALENDAR