BEGIN:VCALENDAR
VERSION:2.0
PRODID:-//Blog for Arizona - ECPv6.15.20//NONSGML v1.0//EN
CALSCALE:GREGORIAN
METHOD:PUBLISH
X-ORIGINAL-URL:https://blogforarizona.net
X-WR-CALDESC:Events for Blog for Arizona
REFRESH-INTERVAL;VALUE=DURATION:PT1H
X-Robots-Tag:noindex
X-PUBLISHED-TTL:PT1H
BEGIN:VTIMEZONE
TZID:America/Phoenix
BEGIN:STANDARD
TZOFFSETFROM:-0700
TZOFFSETTO:-0700
TZNAME:MST
DTSTART:20250101T000000
END:STANDARD
END:VTIMEZONE
BEGIN:VEVENT
DTSTART;TZID=America/Phoenix:20260302T120000
DTEND;TZID=America/Phoenix:20260302T130000
DTSTAMP:20260420T175245
CREATED:20260219T112732Z
LAST-MODIFIED:20260301T131854Z
UID:193840-1772452800-1772456400@blogforarizona.net
SUMMARY:Brian Matlock\, candidate for Az State Mine Inspector at DGT
DESCRIPTION:by Carolyn Classen\, blogger \n\n\n\n\n\n\n\n“Please join us for a discussion and QA with Democratic Candidate Brian Matlock for AZ State Mine Inspector. Come learn more about this misuderstood and little-known Constitutional state-wide office. \n\n\n\nYou Must Register in Advance for this Event:\n\n\n\nhttps://us02web.zoom.us/meeting/register/wk-D1tflSf-E7714UFmEmA\n\n\n\nBrian Matlock is a Marine Reserves veteran and Mechanical Engineer with decades of heavy industry experience including forestry\, pulp & paper\, foundry and mining. Brian is named as an inventor on six United States patents\, some directly associated with mining safety. He has worked at industrial sites on every continent except Antarctica. Brian’s experience includes design\, field service\, marketing and management with supervisory duties.” \n\n\n\nCarolyn’s note: long time Republican Az State Mine Inspector Paul Marsh resigned in August 2025. Republican Les Presmyk was appointed in his place\, probably running for election in 2026. Matlock will face off with him in the General Election.
URL:https://blogforarizona.net/event/brian-matlock-candidate-for-az-mine-inspector-at-dgt/
LOCATION:AZ
ATTACH;FMTTYPE=image/jpeg:https://blogforarizona.net/wp-content/uploads/2026/02/86F139BE-FF94-4F5A-B4CA-81F6AA11B56D.jpeg
END:VEVENT
BEGIN:VEVENT
DTSTART;TZID=America/Phoenix:20260302T150000
DTEND;TZID=America/Phoenix:20260302T180000
DTSTAMP:20260420T175245
CREATED:20260227T231428Z
LAST-MODIFIED:20260227T231433Z
UID:194403-1772463600-1772474400@blogforarizona.net
SUMMARY:Community meeting re: I.C.E. & student safety
DESCRIPTION:by Carolyn Classen\, blogger \n\n\n\n\n\n\n\nCommunity Meeting on ICE Safety – Monday\, March 2 \n\n\n\n“MEChA de Pueblo invites you to attend a community discussion regarding ICE and student safety. This is an opportunity to share any concerns\, fears or questions you may have about the increased presence of ICE in our community. The Pueblo High School chapter would like to create a safe space for students\, parents and teachers to share their feelings\, ask questions and discuss what the community can do to keep each other safe.” \n\n\n\nMonday\, March 2nd from 3-6 PMPueblo High School – Library Reference Room3500 S 12th Ave\, Tucson\, AZ 85713Questions:mechaphs1969@gmail.com
URL:https://blogforarizona.net/event/community-meeting-re-i-c-e-student-safety/
LOCATION:Pueblo High School\, 3500 S. 12th Avenue\, Tucson\, Arizona\, 85713
ATTACH;FMTTYPE=image/webp:https://blogforarizona.net/wp-content/uploads/2026/02/ICEmeeting.webp
END:VEVENT
END:VCALENDAR