BEGIN:VCALENDAR
VERSION:2.0
PRODID:-//Blog for Arizona - ECPv6.15.20//NONSGML v1.0//EN
CALSCALE:GREGORIAN
METHOD:PUBLISH
X-ORIGINAL-URL:https://blogforarizona.net
X-WR-CALDESC:Events for Blog for Arizona
REFRESH-INTERVAL;VALUE=DURATION:PT1H
X-Robots-Tag:noindex
X-PUBLISHED-TTL:PT1H
BEGIN:VTIMEZONE
TZID:America/Phoenix
BEGIN:STANDARD
TZOFFSETFROM:-0700
TZOFFSETTO:-0700
TZNAME:MST
DTSTART:20250101T000000
END:STANDARD
END:VTIMEZONE
BEGIN:VEVENT
DTSTART;TZID=America/Phoenix:20260303T170000
DTEND;TZID=America/Phoenix:20260303T200000
DTSTAMP:20260419T220829
CREATED:20260303T115805Z
LAST-MODIFIED:20260303T115810Z
UID:194660-1772557200-1772568000@blogforarizona.net
SUMMARY:No to I.CE. Detention Center in Marana
DESCRIPTION:by Carolyn Classen\, blogger \n\n\n\nPack the Room! Say NO to ICE Detention Center in Marana\n\n\n\nTUESDAY MAR 3 \n\n\n\n5:00PM-8:00PM \n\n\n\n\n\n\n\nLocation: \n\n\n\nMarana Municipal Complex \n\n\n\n11555 W Civic Center Dr \n\n\n\nMarana\, AZ 85653 \n\n\n\nMap Links: \n\n\n\nOSMGoogleApple \n\n\n\nOrganizer: Pima Resists ICE \n\n\n\n“Bring signs and whistles! Marana residents\, please plan to speak at call to the audience.”
URL:https://blogforarizona.net/event/no-to-i-ce-detention-center-in-marana/
LOCATION:Marana Town Council chambers\, 11555 W. Civic
ATTACH;FMTTYPE=image/webp:https://blogforarizona.net/wp-content/uploads/2026/03/AA19DD68-687C-4C23-897D-11CA5B81B8CC.webp
END:VEVENT
END:VCALENDAR