BEGIN:VCALENDAR
VERSION:2.0
PRODID:-//Blog for Arizona - ECPv6.15.20//NONSGML v1.0//EN
CALSCALE:GREGORIAN
METHOD:PUBLISH
X-ORIGINAL-URL:https://blogforarizona.net
X-WR-CALDESC:Events for Blog for Arizona
REFRESH-INTERVAL;VALUE=DURATION:PT1H
X-Robots-Tag:noindex
X-PUBLISHED-TTL:PT1H
BEGIN:VTIMEZONE
TZID:America/Phoenix
BEGIN:STANDARD
TZOFFSETFROM:-0700
TZOFFSETTO:-0700
TZNAME:MST
DTSTART:20250101T000000
END:STANDARD
END:VTIMEZONE
BEGIN:VEVENT
DTSTART;TZID=America/Phoenix:20260315T093000
DTEND;TZID=America/Phoenix:20260315T120000
DTSTAMP:20260420T164635
CREATED:20260212T000445Z
LAST-MODIFIED:20260212T000449Z
UID:193450-1773567000-1773576000@blogforarizona.net
SUMMARY:Out Brunch
DESCRIPTION:by Carolyn Classen\, blogger \n\n\n\n\n\n\n\n✨ You’re Invited to OUTBRUNCH 2026 ✨Southern Arizona’s most joyful celebration of community\, leadership\, and LGBTQ+ pride. \n\n\n\nHosted by the Southern Arizona AIDS Foundation\, OUTBRUNCH brings together advocates\, allies\, and changemakers for an uplifting brunch honoring leaders who embody courage\, compassion\, and commitment to justice. \n\n\n\n💥 Thanks to a generous supporter\, every dollar raised will be matched up to $100\,000.Your ticket\, table\, or gift will go twice as far to support housing assistance\, healthcare access\, prevention services\, and community support for people living with or affected by HIV. \n\n\n\nThis year\, your attendance matters even more. \n\n\n\n🌟 Honoring Our 2026 Award Recipients: \n\n\n\n\nDr. Jamie Lee – The Godat Award\n\n\n\nDr. Sudha Nagalingham – The Dr. Jean Baker Community Ally Award\n\n\n\nSusan Delaney – The Steve Hall Award\n\n\n\nRepresentative Adelita Grijalva – The Richard Elías Public Servant Award\n\n\n\n\nJoin us. Celebrate bold leadership. Help us unlock the full $100\,000 match. \n\n\n\n🎟️ Reserve your seat today.Can’t attend? You can still double your impact — donate to the match at the link below. \n\n\n\nhttps://secure.qgiv.com/event/outbrunch2026 \n\n\n\nOUTBRUNCH2026 #SupportSAAF #DoubleYourImpact #LGBTQPride
URL:https://blogforarizona.net/event/out-brunch/
LOCATION:Tohono Chul Park\, 7366 N. Paseo del Norte\, Tucson\, Arizona\, 85704
ATTACH;FMTTYPE=image/jpeg:https://blogforarizona.net/wp-content/uploads/2026/02/OutBrunch2026.jpg
END:VEVENT
BEGIN:VEVENT
DTSTART;TZID=America/Phoenix:20260315T150000
DTEND;TZID=America/Phoenix:20260315T180000
DTSTAMP:20260420T164635
CREATED:20260207T211410Z
LAST-MODIFIED:20260303T222104Z
UID:193104-1773586800-1773597600@blogforarizona.net
SUMMARY:♣ Join Democats for our St. Patrick's Day Party
DESCRIPTION:Get your ticket to the 2026 DGT Cunningham Family St. Patrick’s Day Party! Join your fellow Democrats of Greater Tucson for a delightful afternoon of classic Irish cheer and the good company of fellow Democrats. \n\nJust visit Bit.ly/StPatrick2026\nDate: Sunday\, March 15\, 3 to 6 p.m.Location: Don Martini-Club (address given after purchase of a ticket).Tickets: Bit.ly/StPatrick2026 \nWe put the FUN in fundraising and the PARTY in the Democratic Party. You’re personally invited to our party for corned beef\, cabbage and candidates. \n►Be a SILVER Supporter at $45 per person.◄►Be a RAINBOW Supporter at $100 per person. You will be recognized at the event for your generosity!◄►Be a POT OF GOLD Sponsor for a $250 per person donation. You will be listed as a Sponsor and be recognized at the event for your generosity!◄ \n(If you need to mail a check\, please send it 7 days in advance to Democrats of Greater Tucson\, P.O. Box 41573\, Tucson\, AZ\, 85717.) \nMay the road rise to meet you! \n\n\n\n\n\n\n\n\n\n\nFront row: LD 18 Rep. Nancy Gutierrez\, LD 17 House candidate Holly Lyons; \n\n\n\nBack row: CD 7 Congressperson Adelita Grijava\, CD 6 candidate JoAnna Mendoza\, LD 17 Rep. Kevin Volk\, LD 20 Senate candidate Rocque Perez\, JP Victoria Steele\, LD 21 Rep. Stephanie Hamilton\, W 3 Councilman Kevin Dahl\, LD 17 Senate candidate Edgar Soto
URL:https://blogforarizona.net/event/%e2%99%a3-join-democats-for-st-patricks-day-party/
LOCATION:Don Martini Club\, 314 E. Congress St.\, Tucson\, Arizona\, 85701
ATTACH;FMTTYPE=image/png:https://blogforarizona.net/wp-content/uploads/2026/02/St.-Patricks-Day-with-local-Democrats.png
END:VEVENT
BEGIN:VEVENT
DTSTART;TZID=America/Phoenix:20260315T190000
DTEND;TZID=America/Phoenix:20260315T210000
DTSTAMP:20260420T164635
CREATED:20260224T212224Z
LAST-MODIFIED:20260224T215544Z
UID:194200-1773601200-1773608400@blogforarizona.net
SUMMARY:William Shakespeare's "Julius Caesar" staged reading
DESCRIPTION:by Carolyn Classen\, blogger \n\n\n\nInfo: https://www.studioconnectionsaz.org/ \n\n\n\n“In a time of deep division\, Shakespeare’s portrait of power\, populism\, and public persuasion feels startlingly present. Join us!\n\n\n\nCOMING UP NEXT… \n\n\n\nBeware the Ides…”
URL:https://blogforarizona.net/event/william-shakespeares-julius-caesar-staged-reading/
LOCATION:St. Francis in the Foothills church\, 4625 E. River Rd.\, Tucson\, Arizona\, 85718
ATTACH;FMTTYPE=image/jpeg:https://blogforarizona.net/wp-content/uploads/2026/02/IdesofMarchreading-scaled.jpg
END:VEVENT
END:VCALENDAR