BEGIN:VCALENDAR
VERSION:2.0
PRODID:-//Blog for Arizona - ECPv6.15.20//NONSGML v1.0//EN
CALSCALE:GREGORIAN
METHOD:PUBLISH
X-WR-CALNAME:Blog for Arizona
X-ORIGINAL-URL:https://blogforarizona.net
X-WR-CALDESC:Events for Blog for Arizona
REFRESH-INTERVAL;VALUE=DURATION:PT1H
X-Robots-Tag:noindex
X-PUBLISHED-TTL:PT1H
BEGIN:VTIMEZONE
TZID:America/Phoenix
BEGIN:STANDARD
TZOFFSETFROM:-0700
TZOFFSETTO:-0700
TZNAME:MST
DTSTART:20250101T000000
END:STANDARD
END:VTIMEZONE
BEGIN:VEVENT
DTSTART;TZID=America/Phoenix:20260411T080000
DTEND;TZID=America/Phoenix:20260411T110000
DTSTAMP:20260424T033711
CREATED:20260330T211949Z
LAST-MODIFIED:20260330T211952Z
UID:196204-1775894400-1775905200@blogforarizona.net
SUMMARY:Protest at Juan Ciscomani's office
DESCRIPTION:by Carolyn Classen\, blogger \n\n\n\n\n\n\n\nSaturday Protest Outside Ciscomani’s Office\n\n\n\nApril 11 @ 8:00 am – 11:00 am \n\n\n\nJoin us on Saturdays as early as 8AM at the corner of Pima and Swan\, where we be protesting peacefully outside Rep. Ciscomani’s office. With our presence and our signs\, we will tell him to properly represent his constituency\, and uphold the constitution! We will have extra signs; chillin’ chairs; and a letter-writing station for you to write a letter to Ciscomani and deliver it personally to his office! Indivisible Tucson’s Pressure Ciscomani Team and others will have information tables at these events. Please join us to protest Rep. Ciscomani’s voting record and hypocritical messaging. RSVP if you like\, but no need to – just show up any Saturday morning! \n\n\n\nJoin the FUN – https://youtube.com/shorts/NMwCDwp55aQ \n\n\n\nSee you there!
URL:https://blogforarizona.net/event/protest-at-juan-ciscomanis-office-22/
LOCATION:Congressman Juan Ciscomani’s office\, 1636 N. Swan Rd.\, Tucson\, Arizona\, 85712
ATTACH;FMTTYPE=image/jpeg:https://blogforarizona.net/wp-content/uploads/2026/03/StandStrongSpeakup.jpg
END:VEVENT
BEGIN:VEVENT
DTSTART;TZID=America/Phoenix:20260411T090000
DTEND;TZID=America/Phoenix:20260411T130000
DTSTAMP:20260424T033711
CREATED:20260401T032146Z
LAST-MODIFIED:20260401T033206Z
UID:196294-1775898000-1775912400@blogforarizona.net
SUMMARY:Desert Discovery Day at Children's Museum Tucson
DESCRIPTION:by Carolyn Classen\, blogger \n\n\n\nFor years I’ve been posting the Children’s Museum Tucson’s annual Earth Day celebration. In 2026 they have changed it to a Desert Discovery Day for children and friends.  Children can learn about the Southwest desert & ecology as part of our Earth.  \n\n\n\nI’m still hosting my annual Earth Day cleanup for my neighborhood on April 19.  Earth Day is on April 22\, 2026. \n\n\n\n\n\n\n\n\nDesert Discovery Day!
URL:https://blogforarizona.net/event/desert-discovery-day-at-childrens-museum-tucson/
LOCATION:Children’s Museum Tucson\, 200 S. 6th Avenue\, Tucson\, AZ\, 85701\, United States
ATTACH;FMTTYPE=image/png:https://blogforarizona.net/wp-content/uploads/2026/03/DesertDiscoveryDay.png
END:VEVENT
BEGIN:VEVENT
DTSTART;TZID=America/Phoenix:20260411T103000
DTEND;TZID=America/Phoenix:20260411T113000
DTSTAMP:20260424T033711
CREATED:20260326T100607Z
LAST-MODIFIED:20260331T214713Z
UID:195953-1775903400-1775907000@blogforarizona.net
SUMMARY:CD 6 candidate JoAnna Mendoza and AZ Treasurer candidate Nick Mansour at TVVDC meeting
DESCRIPTION:by Carolyn Classen\, blogger \n\n\n\n\n\n\n\n \n\n\n\nCD-6 Candidate JoAnna MendozaandAZ Treasurer Candidate Nick Mansour\n\n\n\nSaturday\, April 11\, 2026\, 10:30-11:30amKirk-Bear Canyon Library(8959 E Tanque Verde Rd)\n\n\n\nOur April meeting will feature Democratic candidate for CD-6 JoAnna Mendoza and Democratic candidate for Arizona Treasurer Nick Mansour. \n\n\n\nPat WiedhopfChair\, Tanque Verde Valley Democratic Club \n\n\n\nThe Tanque Verde Valley Democratic Club presents speakers of interest to Democratic voters on the second Saturday of every month. \n\n\n\nSign up for our mailing list to receive meeting announcements: http://eepurl.com/gpRv1j \n\n\n\nTo join the Tanque Verde Valley Democratic Club please email your name\, address\, telephone number and email address to Beth Isabelle (bethisabelle@gmail.com)“ \n\n\n\nJoAnna Mendoza\, candidate for CD 6\n\n\n\nArizona Treasurer Candidate Nick Mansour\n\n\n\nCarolyn’s note: JoAnna Mendoza is the Dem candidate facing off with CD 6 Republican incumbent Juan Ciscomani in 2026. Also a Libertarian and Independent running for CD 6. Nick Mansour is running for the open AZ Treasurer’s seat\, as current Treasurer Republican Kimberly Yee is running for Superintendent of Public Instruction against fellow Republican incumbent Tom Horne. Two Republicans are running in the July 21 Primary for AZ Treasurer\, so one of them with face off with Mansour in the General on Nov. 3rd. There is also an Independent running for Treasurer.
URL:https://blogforarizona.net/event/cd-6-candidate-joanna-mendoza-and-az-treasurer-candidate-nick-mansour-at-tvvdc-meeting/
LOCATION:Kirk- Bear Canyon public library\, 8959 E. Tanque Verde Rd.\, Tucson\, Arizona\, 85749
ATTACH;FMTTYPE=image/jpeg:https://blogforarizona.net/wp-content/uploads/2026/03/27144D2A-1514-4F94-8C37-0EE8794710E7.jpeg
END:VEVENT
BEGIN:VEVENT
DTSTART;TZID=America/Phoenix:20260411T140000
DTEND;TZID=America/Phoenix:20260411T163000
DTSTAMP:20260424T033711
CREATED:20260407T234625Z
LAST-MODIFIED:20260407T234629Z
UID:196588-1775916000-1775925000@blogforarizona.net
SUMMARY:I.C.E. Out Community Assembly
DESCRIPTION:by Carolyn Classen\, blogger \n\n\n\n\n\n\n\nLocation: \n\n\n\nFirst Christian Church \n\n\n\n740 E Speedway Blvd \n\n\n\nTucson\, AZ 85719 \n\n\n\nMap Links: \n\n\n\nOSMGoogleApple \n\n\n\nOrganizer: Community Organized \n\n\n\nNew location!
URL:https://blogforarizona.net/event/i-c-e-out-community-assembly-3/
LOCATION:First Christian Church\, 740 E Speedway Blvd.\, Tucson\, Arizona\, 85719
ATTACH;FMTTYPE=image/webp:https://blogforarizona.net/wp-content/uploads/2026/04/0C5C4434-7EEF-4CF6-8CCF-A8349B2FEA71.webp
END:VEVENT
BEGIN:VEVENT
DTSTART;TZID=America/Phoenix:20260411T150000
DTEND;TZID=America/Phoenix:20260411T160000
DTSTAMP:20260424T033711
CREATED:20260401T171246Z
LAST-MODIFIED:20260401T204644Z
UID:196347-1775919600-1775923200@blogforarizona.net
SUMMARY:The Citizen’s Initiative to Protect Education
DESCRIPTION:by Carolyn Classen\, blogger
URL:https://blogforarizona.net/event/the-citizens-initiative-to-protect-education/
LOCATION:Continental Shopping Plaza\, 210 W. Continental Road\, Green Valley\, Arizona\, 85614
ATTACH;FMTTYPE=image/png:https://blogforarizona.net/wp-content/uploads/2026/04/26890734-048D-47F9-B46C-A802F62CE801.png
END:VEVENT
END:VCALENDAR