BEGIN:VCALENDAR
VERSION:2.0
PRODID:-//Blog for Arizona - ECPv6.15.20//NONSGML v1.0//EN
CALSCALE:GREGORIAN
METHOD:PUBLISH
X-WR-CALNAME:Blog for Arizona
X-ORIGINAL-URL:https://blogforarizona.net
X-WR-CALDESC:Events for Blog for Arizona
REFRESH-INTERVAL;VALUE=DURATION:PT1H
X-Robots-Tag:noindex
X-PUBLISHED-TTL:PT1H
BEGIN:VTIMEZONE
TZID:America/Phoenix
BEGIN:STANDARD
TZOFFSETFROM:-0700
TZOFFSETTO:-0700
TZNAME:MST
DTSTART:20250101T000000
END:STANDARD
END:VTIMEZONE
BEGIN:VEVENT
DTSTART;TZID=America/Phoenix:20260417T120000
DTEND;TZID=America/Phoenix:20260417T130000
DTSTAMP:20260419T215734
CREATED:20260406T150957Z
LAST-MODIFIED:20260406T152724Z
UID:196506-1776427200-1776430800@blogforarizona.net
SUMMARY:Donating During a Fascist Crisis
DESCRIPTION:This session is a practical presentation about how to give money strategically in the current crisis of democracy.  \n\n\n\nWe’ll talk about the unusual and urgent nature of this moment\, and how both charitable giving and political giving may need to change in response. We’ll consider what kinds of organizations are most likely to make a real difference right now\, and how different giving strategies make sense for people in different financial situations.  \n\n\n\nThe focus is on how financial support for the resistance can be a powerful complement to—and a source of capacity behind—voting drives\, court challenges\, constituent lobbying\, mutual aid\, street protests\, and other forms of action. \n\n\n\nRegister on Mobilize: https://www.mobilize.us/indivisible/event/933367/
URL:https://blogforarizona.net/event/donating-during-a-fascist-crisis/
LOCATION:Martha Cooper library\, 1277 N. Catalina Avenue\, Tucson\, Arizona\, 85712
ATTACH;FMTTYPE=image/jpeg:https://blogforarizona.net/wp-content/uploads/2026/04/Mobilize-Generalized-Indivisible-Event-Campaign-Image-2_20231214173755488494.jpg
END:VEVENT
END:VCALENDAR