BEGIN:VCALENDAR
VERSION:2.0
PRODID:-//Blog for Arizona - ECPv6.15.20//NONSGML v1.0//EN
CALSCALE:GREGORIAN
METHOD:PUBLISH
X-ORIGINAL-URL:https://blogforarizona.net
X-WR-CALDESC:Events for Blog for Arizona
REFRESH-INTERVAL;VALUE=DURATION:PT1H
X-Robots-Tag:noindex
X-PUBLISHED-TTL:PT1H
BEGIN:VTIMEZONE
TZID:America/Phoenix
BEGIN:STANDARD
TZOFFSETFROM:-0700
TZOFFSETTO:-0700
TZNAME:MST
DTSTART:20250101T000000
END:STANDARD
END:VTIMEZONE
BEGIN:VEVENT
DTSTART;TZID=America/Phoenix:20260527T180000
DTEND;TZID=America/Phoenix:20260527T190000
DTSTAMP:20260424T065855
CREATED:20260410T021025Z
LAST-MODIFIED:20260422T100740Z
UID:196656-1779904800-1779908400@blogforarizona.net
SUMMARY:Democratic LD 21 House candidates debate
DESCRIPTION:by Carolyn Classen\, blogger \n\n\n\n4 way Dem primary for 2 House seats in LD 21.  This is Citizens Clean Elections Debate prior to the July 21 primary. There is one Republican challenger to face in the General Election. \n\n\n\nConsuelo Hernandez\, incumbent\, sister to LD 20 House Rep. Alma Hernandez\, and former House Rep. Daniel Hernandez\, https://www.consueloforarizona.com/ \n\n\n\nMaritza Higuera\, political newcomer\, https://maritzaforaz.com/ \n\n\n\nMiranda Lopez\, political newcomer\, https://lopezforarizona.com/ \n\n\n\nStephanie Stahl Hamilton\, incumbent\, also former LD10 House Rep.\, https://stahlhamiltonforaz.com/ \n\n\n\nLD 21 House Rep. Consuelo Hernandez\n\n\n\nMaritza Higuera\n\n\n\nMiranda Lopez\n\n\n\nLD 21 House Rep. Stephanie Stahl Hamilton\n\n\n\nhttps://www.azcleanelections.gov/debate-information
URL:https://blogforarizona.net/event/democratic-ld-21-house-candidates-debate/
ATTACH;FMTTYPE=image/png:https://blogforarizona.net/wp-content/uploads/2018/09/CCEC-logo.png
END:VEVENT
END:VCALENDAR