BEGIN:VCALENDAR
VERSION:2.0
PRODID:-//Blog for Arizona - ECPv6.15.20//NONSGML v1.0//EN
CALSCALE:GREGORIAN
METHOD:PUBLISH
X-ORIGINAL-URL:https://blogforarizona.net
X-WR-CALDESC:Events for Blog for Arizona
REFRESH-INTERVAL;VALUE=DURATION:PT1H
X-Robots-Tag:noindex
X-PUBLISHED-TTL:PT1H
BEGIN:VTIMEZONE
TZID:America/Phoenix
BEGIN:STANDARD
TZOFFSETFROM:-0700
TZOFFSETTO:-0700
TZNAME:MST
DTSTART:20250101T000000
END:STANDARD
END:VTIMEZONE
BEGIN:VEVENT
DTSTART;TZID=America/Phoenix:20260124T150000
DTEND;TZID=America/Phoenix:20260124T160000
DTSTAMP:20260425T072218
CREATED:20260101T163327Z
LAST-MODIFIED:20260101T163331Z
UID:190994-1769266800-1769270400@blogforarizona.net
SUMMARY:Meet LD 19 Dem candidates for AZ Senate & House
DESCRIPTION:by Carolyn Classen\, blogger \n\n\n\nAll three Democrats are political newcomers\, trying to defeat 3 Republican incumbents\, LD 19 State Senator David Gowan\, House Reps. Gail Griffin and Lupe Diaz in 2026.
URL:https://blogforarizona.net/event/meet-ld-19-dem-candidates-for-az-senate-house/
LOCATION:Continental Plaza\, 210 W. Continental Road\, Green Valley\, Arizona\, 85614
ATTACH;FMTTYPE=image/png:https://blogforarizona.net/wp-content/uploads/2026/01/LD19Dems.png
END:VEVENT
END:VCALENDAR