BEGIN:VCALENDAR
VERSION:2.0
PRODID:-//Blog for Arizona - ECPv6.15.20//NONSGML v1.0//EN
CALSCALE:GREGORIAN
METHOD:PUBLISH
X-ORIGINAL-URL:https://blogforarizona.net
X-WR-CALDESC:Events for Blog for Arizona
REFRESH-INTERVAL;VALUE=DURATION:PT1H
X-Robots-Tag:noindex
X-PUBLISHED-TTL:PT1H
BEGIN:VTIMEZONE
TZID:America/Phoenix
BEGIN:STANDARD
TZOFFSETFROM:-0700
TZOFFSETTO:-0700
TZNAME:MST
DTSTART:20250101T000000
END:STANDARD
END:VTIMEZONE
BEGIN:VEVENT
DTSTART;TZID=America/Phoenix:20260228T103000
DTEND;TZID=America/Phoenix:20260228T133000
DTSTAMP:20260422T125228
CREATED:20260220T163936Z
LAST-MODIFIED:20260221T004135Z
UID:193904-1772274600-1772285400@blogforarizona.net
SUMMARY:We the People Freedom Fair (and rally)
DESCRIPTION:by Carolyn Classen\, blogger
URL:https://blogforarizona.net/event/we-the-people-freedom-fair/
LOCATION:Quail Creek Veterans Municipal Park\, 1906 S. Nogales Hwy.\, Sahuarita\, Arizona\, 85629
ATTACH;FMTTYPE=image/jpeg:https://blogforarizona.net/wp-content/uploads/2026/02/WethePeopleFreedomFair.jpg
END:VEVENT
END:VCALENDAR