BEGIN:VCALENDAR
VERSION:2.0
PRODID:-//Blog for Arizona - ECPv6.15.20//NONSGML v1.0//EN
CALSCALE:GREGORIAN
METHOD:PUBLISH
X-ORIGINAL-URL:https://blogforarizona.net
X-WR-CALDESC:Events for Blog for Arizona
REFRESH-INTERVAL;VALUE=DURATION:PT1H
X-Robots-Tag:noindex
X-PUBLISHED-TTL:PT1H
BEGIN:VTIMEZONE
TZID:America/Phoenix
BEGIN:STANDARD
TZOFFSETFROM:-0700
TZOFFSETTO:-0700
TZNAME:MST
DTSTART:20250101T000000
END:STANDARD
END:VTIMEZONE
BEGIN:VEVENT
DTSTART;TZID=America/Phoenix:20260119T163000
DTEND;TZID=America/Phoenix:20260119T190000
DTSTAMP:20260419T092603
CREATED:20251224T070331Z
LAST-MODIFIED:20251225T151647Z
UID:190765-1768840200-1768849200@blogforarizona.net
SUMMARY:”Sinners” free MLK film screening
DESCRIPTION:by Carolyn Classen\, blogger \n\n\n\n \n\n\n\n\n\n\n\n \n\n\n\nTickets Available DAY OF at Box Office \n\n\n\nMONDAY\, JANUARY 19 AT 4:30PM\n\n\n\nFREE ADMISSION\n\n\n\nTICKETS AVAILABLE DAY OF AT BOX OFFICE\n\n\n\n“Celebrate Martin Luther King Jr. Day with a free screening of Ryan Coogler’s acclaimed blockbuster SINNERS! See it again on the big screen before Academy Award-nominations are announced on January 22! \n\n\n\nTrying to leave their troubled lives behind\, twin brothers (Michael B. Jordan) return to their Mississippi hometown to start again\, only to discover that an even greater evil is waiting to welcome them back. The latest film from acclaimed writer/director Ryan Coogler (Creed\, Black Panther) is a rip-roaring\, culturally-potent exploration of the Black American experience\, told through a fusion of masterful visual storytelling\, electrifying music and vicious horror\, co-starring Miles Caton\, Wunmi Mosaku\, Hailee Steinfeld\, Delroy Lindo and Saul Williams. (Dir. by Ryan Coogler\, 2025\, USA\, 137 min.\, Rated R)” \n\n\n\n2 HR 17 MIN | R\n\n\n\nReleased 2025
URL:https://blogforarizona.net/event/sinners-free-film-screening/
LOCATION:Loft Cinema\, 3233 E. Speedway Blvd.\, Tucson\, AZ\, 85716\, United States
ATTACH;FMTTYPE=image/jpeg:https://blogforarizona.net/wp-content/uploads/2025/12/24EACFD6-3420-4959-8694-499910A8C50B.jpeg
END:VEVENT
END:VCALENDAR